BEGIN:VCALENDAR
VERSION:2.0
PRODID:-//hacksw/handcal//NONSGML v1.0//EN
BEGIN:VEVENT
SUMMARY:Finale regionale des Pointes d'OR benjamins et minimes
UID:9c14b82d-14bc-4514-bd17-a8bb69e92d04
DTSTART:20260704T220000Z
DTEND:20260705T220000Z
LOCATION:Localisation Stade Jean Berthelem 50000 Saint-Lo
CATEGORIES:Sportif
STATUS:
DESCRIPTION:<p>Une competition attendue par nos jeunes, reunissant
 les meilleurs benajmisn et minimes de la region</p>
 
 <p>Horaires et
 infos a venir</p>
URL;VALUE=URI:https://sospac.sportsregions.fr/evenements/2026/07/05/finale-regionale-des-pointes-dor-benjamins-et-minimes-2431156
END:VEVENT
END:VCALENDAR
